BEGIN:VCALENDAR
VERSION:2.0
PRODID:-//Kino Tuškanac//Filmski programi//HR
BEGIN:VEVENT
UID:2fe59e59c71863dc5cd8fb0f42badc4a@kinotuskanac.hr
DTSTAMP:20260421T002220Z
DTSTART:20250118T210000
DTEND:20250118T230000
SUMMARY:Tragači
LOCATION:Kino Tuškanac
DESCRIPTION:The Searchers, SAD, 1956 | Mjesto prikazivanja filma: Kulturno informativni centar KIC (Preradovićeva ul. 5) R: John Ford
END:VEVENT
END:VCALENDAR