BEGIN:VCALENDAR
VERSION:2.0
PRODID:-//Kino Tuškanac//Filmski programi//HR
BEGIN:VEVENT
UID:a7101eedef43dcd127615bde50a4650b@kinotuskanac.hr
DTSTAMP:20260423T111539Z
DTSTART:20250120T210000
DTEND:20250120T230000
SUMMARY:Cabaret
LOCATION:Kino Tuškanac
DESCRIPTION:SAD, 1972 | Mjesto prikazivanja filma: Kulturno informativni centar KIC (Preradovićeva ul. 5) R: Bob Fosse
END:VEVENT
END:VCALENDAR