BEGIN:VCALENDAR
VERSION:2.0
PRODID:-//Kino Tuškanac//Filmski programi//HR
BEGIN:VEVENT
UID:7d5cee4a70ffb2ed993bdbd81ca5b939@kinotuskanac.hr
DTSTAMP:20260421T133821Z
DTSTART:20250121T190000
DTEND:20250121T210000
SUMMARY:Tko je smjestio Zeki Rogeru
LOCATION:Kino Tuškanac
DESCRIPTION:Who Framed Roger Rabbit, SAD, 1988 | Mjesto prikazivanja filma: Centar za kulturu Histrionski dom (Ilica 90) R: Robert Zemeckis
END:VEVENT
END:VCALENDAR