BEGIN:VCALENDAR
VERSION:2.0
PRODID:-//Kino Tuškanac//Filmski programi//HR
BEGIN:VEVENT
UID:4341f544d3439e5c38f5c5ba83ab94f0@kinotuskanac.hr
DTSTAMP:20260419T225019Z
DTSTART:20250128T190000
DTEND:20250128T210000
SUMMARY:Od Hetty za Nancy
LOCATION:Kino Tuškanac
DESCRIPTION:From Hetty to Nancy, SAD, 1997 R: Deborah Stratman
END:VEVENT
END:VCALENDAR