BEGIN:VCALENDAR
VERSION:2.0
PRODID:-//Kino Tuškanac//Filmski programi//HR
BEGIN:VEVENT
UID:e0011327d143001a13172038949de79a@kinotuskanac.hr
DTSTAMP:20260419T141947Z
DTSTART:20250128T190000
DTEND:20250128T210000
SUMMARY:Dear Aki
LOCATION:Kino Tuškanac
DESCRIPTION:Hrvatska, 2021 R: Nina Kurtela
END:VEVENT
END:VCALENDAR