BEGIN:VCALENDAR
VERSION:2.0
PRODID:-//Kino Tuškanac//Filmski programi//HR
BEGIN:VEVENT
UID:35bb2887f4d3771672ab56af7daae26e@kinotuskanac.hr
DTSTAMP:20260421T133725Z
DTSTART:20250304T190000
DTEND:20250304T210000
SUMMARY:Ružičasti plamenci
LOCATION:Kino Tuškanac
DESCRIPTION:Pink Flamingos, SAD, 1972 | Mjesto prikazivanja filma: Kino Forum (SD Stjepan Radić, Jarunska ul. 2) R: John Waters
END:VEVENT
END:VCALENDAR