BEGIN:VCALENDAR
VERSION:2.0
PRODID:-//Kino Tuškanac//Filmski programi//HR
BEGIN:VEVENT
UID:74c02931df10809478171af1f4d7bc76@kinotuskanac.hr
DTSTAMP:20260423T143905Z
DTSTART:20250307T210000
DTEND:20250307T230000
SUMMARY:Lola
LOCATION:Kino Tuškanac
DESCRIPTION:Francuska, Italija, 1961 | Mjesto prikazivanja filma: Kulturno informativni centar KIC (Preradovićeva ul. 5) R: Jacques Demy
END:VEVENT
END:VCALENDAR