BEGIN:VCALENDAR
VERSION:2.0
PRODID:-//Kino Tuškanac//Filmski programi//HR
BEGIN:VEVENT
UID:23b08b4f5213046b3efa94a01b66f818@kinotuskanac.hr
DTSTAMP:20260425T161650Z
DTSTART:20250309T210000
DTEND:20250309T230000
SUMMARY:Dnevnici iz crne kutije
LOCATION:Kino Tuškanac
DESCRIPTION:Black Box Diaries, Japan, UK, SAD, 2024 | Mjesto prikazivanja filma: Kulturno informativni centar KIC (Preradovićeva ul. 5) R: Shiori Itô
END:VEVENT
END:VCALENDAR