BEGIN:VCALENDAR
VERSION:2.0
PRODID:-//Kino Tuškanac//Filmski programi//HR
BEGIN:VEVENT
UID:4dee41072a268361fbbfe5f733f882ec@kinotuskanac.hr
DTSTAMP:20260420T033815Z
DTSTART:20250310T190000
DTEND:20250310T210000
SUMMARY:Nevolje sa ženama
LOCATION:Kino Tuškanac
DESCRIPTION:Female Trouble, SAD, 1974 | Mjesto prikazivanja filma: Kino Forum (SD Stjepan Radić, Jarunska ul. 2) R: John Waters
END:VEVENT
END:VCALENDAR