BEGIN:VCALENDAR
VERSION:2.0
PRODID:-//Kino Tuškanac//Filmski programi//HR
BEGIN:VEVENT
UID:7b8e7fb854e5405a44e68da86525652f@kinotuskanac.hr
DTSTAMP:20260423T111513Z
DTSTART:20250321T190000
DTEND:20250321T210000
SUMMARY:Cabaret
LOCATION:Kino Tuškanac
DESCRIPTION:SAD, 1972 | Mjesto prikazivanja filma: Kulturno informativni centar KIC (Preradovićeva ul. 5) R: Bob Fosse
END:VEVENT
END:VCALENDAR