BEGIN:VCALENDAR
VERSION:2.0
PRODID:-//Kino Tuškanac//Filmski programi//HR
BEGIN:VEVENT
UID:7a339c0ab7c9c26d9976094d22981b60@kinotuskanac.hr
DTSTAMP:20260424T005748Z
DTSTART:20250317T210000
DTEND:20250317T230000
SUMMARY:Queer
LOCATION:Kino Tuškanac
DESCRIPTION:SAD, 2024 | Mjesto prikazivanja filma: Kino Forum (SD Stjepan Radić, Jarunska ul. 2) R: Luca Guadagnino
END:VEVENT
END:VCALENDAR