BEGIN:VCALENDAR
VERSION:2.0
PRODID:-//Kino Tuškanac//Filmski programi//HR
BEGIN:VEVENT
UID:22e661bc3ea41f7f04c40f6855e5507f@kinotuskanac.hr
DTSTAMP:20260423T064202Z
DTSTART:20250319T210000
DTEND:20250319T230000
SUMMARY:Bird
LOCATION:Kino Tuškanac
DESCRIPTION:UK, 2024 | Mjesto prikazivanja filma: Kino Forum (SD Stjepan Radić, Jarunska ul. 2) R: Andrea Arnold
END:VEVENT
END:VCALENDAR