BEGIN:VCALENDAR
VERSION:2.0
PRODID:-//Kino Tuškanac//Filmski programi//HR
BEGIN:VEVENT
UID:70e2f2b7373dc4c10929ecc4f3a2c279@kinotuskanac.hr
DTSTAMP:20260419T141813Z
DTSTART:20060630T210000
DTEND:20060630T230000
SUMMARY:Goya u Bordeauxu
LOCATION:Kino Tuškanac
DESCRIPTION:Goya en Burdeos, 1999 R: Carlos Saura
END:VEVENT
END:VCALENDAR