BEGIN:VCALENDAR
VERSION:2.0
PRODID:-//Kino Tuškanac//Filmski programi//HR
BEGIN:VEVENT
UID:cc565a78b749604c51be861f772735e0@kinotuskanac.hr
DTSTAMP:20260422T083532Z
DTSTART:20250320T210000
DTEND:20250320T230000
SUMMARY:Gospođice iz Rocheforta
LOCATION:Kino Tuškanac
DESCRIPTION:Les demoiselles de Rochefort, Francuska, 1967 | Mjesto prikazivanja filma: Kulturno informativni centar KIC (Preradovićeva ul. 5) R: Jacques Demy
END:VEVENT
END:VCALENDAR