BEGIN:VCALENDAR
VERSION:2.0
PRODID:-//Kino Tuškanac//Filmski programi//HR
BEGIN:VEVENT
UID:afa42d1b8192a3d502dd73a800147360@kinotuskanac.hr
DTSTAMP:20260426T033840Z
DTSTART:20250323T210000
DTEND:20250323T230000
SUMMARY:Najvažniji događaj otkako je čovjek stupio na Mjesec
LOCATION:Kino Tuškanac
DESCRIPTION:L'Événement le plus important depuis que l'homme a marché sur la Lune, Francuska, Italija, 1973 | Mjesto prikazivanja filma: Kulturno informativni centar KIC (Preradovićeva ul. 5) R: Jacques Demy
END:VEVENT
END:VCALENDAR