BEGIN:VCALENDAR
VERSION:2.0
PRODID:-//Kino Tuškanac//Filmski programi//HR
BEGIN:VEVENT
UID:13deab3dcac728204c635da9156ba091@kinotuskanac.hr
DTSTAMP:20260421T093102Z
DTSTART:20250326T190000
DTEND:20250326T210000
SUMMARY:Pecker
LOCATION:Kino Tuškanac
DESCRIPTION:SAD, 1988 | Mjesto prikazivanja filma: Kino Forum (SD Stjepan Radić, Jarunska ul. 2) R: John Waters
END:VEVENT
END:VCALENDAR