BEGIN:VCALENDAR
VERSION:2.0
PRODID:-//Kino Tuškanac//Filmski programi//HR
BEGIN:VEVENT
UID:50fe495ee795cc8faf34b888793586ee@kinotuskanac.hr
DTSTAMP:20260423T074515Z
DTSTART:20250330T210000
DTEND:20250330T230000
SUMMARY:Parking
LOCATION:Kino Tuškanac
DESCRIPTION:Francuska, 1985 | Mjesto prikazivanja filma: Kulturno informativni centar KIC (Preradovićeva ul. 5) R: Jacques Demy
END:VEVENT
END:VCALENDAR