BEGIN:VCALENDAR
VERSION:2.0
PRODID:-//Kino Tuškanac//Filmski programi//HR
BEGIN:VEVENT
UID:1600563be29c1fb0d395e44959ee03eb@kinotuskanac.hr
DTSTAMP:20260424T052103Z
DTSTART:20250318T210000
DTEND:20250318T230000
SUMMARY:Duž obale
LOCATION:Kino Tuškanac
DESCRIPTION:Du côté de la côte, Francuska, 1958 R: Agnès Varda
END:VEVENT
END:VCALENDAR