BEGIN:VCALENDAR
VERSION:2.0
PRODID:-//Kino Tuškanac//Filmski programi//HR
BEGIN:VEVENT
UID:e7f881ef5bcde6967000fa74732e5a24@kinotuskanac.hr
DTSTAMP:20260420T143632Z
DTSTART:20250318T210000
DTEND:20250318T230000
SUMMARY:Fran i Verka: običan dan u napuštenom selu
LOCATION:Kino Tuškanac
DESCRIPTION:Fran dhe Verka; ose një ditë e zakonshme në një fshat të braktisur, Kosovo, 2023 R: Sovran Nrecaj
END:VEVENT
END:VCALENDAR