BEGIN:VCALENDAR
VERSION:2.0
PRODID:-//Kino Tuškanac//Filmski programi//HR
BEGIN:VEVENT
UID:4372e26f2f7bfe467f1d50c86967198f@kinotuskanac.hr
DTSTAMP:20260422T214950Z
DTSTART:20250410T190000
DTEND:20250410T210000
SUMMARY:Dobra djeca
LOCATION:Kino Tuškanac
DESCRIPTION:Hrvatska, 2024 | Mjesto prikazivanja filma: Kino Forum (SD Stjepan Radić, Jarunska ul. 2) R: Filip Peruzović
END:VEVENT
END:VCALENDAR