BEGIN:VCALENDAR
VERSION:2.0
PRODID:-//Kino Tuškanac//Filmski programi//HR
BEGIN:VEVENT
UID:ff3a972b0b1e6cba0e93e9ae47a7a618@kinotuskanac.hr
DTSTAMP:20260420T205458Z
DTSTART:20250429T190000
DTEND:20250429T210000
SUMMARY:Unutarnje carstvo
LOCATION:Kino Tuškanac
DESCRIPTION:Inland Empire, Francuska, Poljska, SAD, 2006 | Mjesto prikazivanja filma: Centar za kulturu Histrionski dom (Ilica 90) R: David Lynch
END:VEVENT
END:VCALENDAR