BEGIN:VCALENDAR
VERSION:2.0
PRODID:-//Kino Tuškanac//Filmski programi//HR
BEGIN:VEVENT
UID:bd9053ab0ab845280609656367376b0c@kinotuskanac.hr
DTSTAMP:20260426T010607Z
DTSTART:20060518T200000
DTEND:20060518T220000
SUMMARY:Testament gospodina Napumocena
LOCATION:Kino Tuškanac
DESCRIPTION:O Testamento do Senhor Napumoceno, 1997 R: Francisco Manso
END:VEVENT
END:VCALENDAR