BEGIN:VCALENDAR
VERSION:2.0
PRODID:-//Kino Tuškanac//Filmski programi//HR
BEGIN:VEVENT
UID:3b0875ef91558a82cfa64da4eaee6b43@kinotuskanac.hr
DTSTAMP:20260425T163056Z
DTSTART:20250416T210000
DTEND:20250416T230000
SUMMARY:Mirotvorac
LOCATION:Kino Tuškanac
DESCRIPTION:Hrvatska, 2025 | Mjesto prikazivanja filma: Kulturno informativni centar KIC (Preradovićeva ul. 5) R: Ivan Ramljak
END:VEVENT
END:VCALENDAR