BEGIN:VCALENDAR
VERSION:2.0
PRODID:-//Kino Tuškanac//Filmski programi//HR
BEGIN:VEVENT
UID:02f56222aab4256604f32f3ce99cb5da@kinotuskanac.hr
DTSTAMP:20260426T011127Z
DTSTART:20060519T190000
DTEND:20060519T210000
SUMMARY:Testament gospodina Napumocena
LOCATION:Kino Tuškanac
DESCRIPTION:O Testamento do Senhor Napumoceno, 1997 R: Francisco Manso
END:VEVENT
END:VCALENDAR