BEGIN:VCALENDAR
VERSION:2.0
PRODID:-//Kino Tuškanac//Filmski programi//HR
BEGIN:VEVENT
UID:eea75707debda7d8412722903e2e9814@kinotuskanac.hr
DTSTAMP:20260422T124525Z
DTSTART:20250510T110000
DTEND:20250510T130000
SUMMARY:Družba Pere Kvržice
LOCATION:Kino Tuškanac
DESCRIPTION:Jugoslavija: Hrvatska, 1970 | Mjesto prikazivanja filma: Scena Ribnjak (Centar mladih Ribnjak, Park Ribnjak 1) R: Vladimir Tadej
END:VEVENT
END:VCALENDAR