BEGIN:VCALENDAR
VERSION:2.0
PRODID:-//Kino Tuškanac//Filmski programi//HR
BEGIN:VEVENT
UID:afcfd5320d654ea7dc1ff54892d8573c@kinotuskanac.hr
DTSTAMP:20260420T165555Z
DTSTART:20250510T210000
DTEND:20250510T230000
SUMMARY:Zvijer (2024)
LOCATION:Kino Tuškanac
DESCRIPTION:Animale, Francuska, Belgija, Saudijska Arabija, 2024 | Mjesto prikazivanja filma: Kulturno informativni centar KIC (Preradovićeva ul. 5) R: Emma Benestan
END:VEVENT
END:VCALENDAR