BEGIN:VCALENDAR
VERSION:2.0
PRODID:-//Kino Tuškanac//Filmski programi//HR
BEGIN:VEVENT
UID:4007d46f9a8ba83167696c0d643ca5c7@kinotuskanac.hr
DTSTAMP:20260419T141644Z
DTSTART:20250511T210000
DTEND:20250511T230000
SUMMARY:Vuk samotnjak
LOCATION:Kino Tuškanac
DESCRIPTION:Jugoslavija: Hrvatska, 1972 | Mjesto prikazivanja filma: Kulturno informativni centar KIC (Preradovićeva ul. 5) R: Obrad Gluščević
END:VEVENT
END:VCALENDAR