BEGIN:VCALENDAR
VERSION:2.0
PRODID:-//Kino Tuškanac//Filmski programi//HR
BEGIN:VEVENT
UID:40025131f8e3b02703637443a5b6022c@kinotuskanac.hr
DTSTAMP:20260419T230730Z
DTSTART:20250514T190000
DTEND:20250514T210000
SUMMARY:Legendarni Tombstone
LOCATION:Kino Tuškanac
DESCRIPTION:Tombstone, SAD, 1993 | Mjesto prikazivanja filma: Kino Forum (SD Stjepan Radić, Jarunska ul. 2) R: George P. Cosmatos
END:VEVENT
END:VCALENDAR