BEGIN:VCALENDAR
VERSION:2.0
PRODID:-//Kino Tuškanac//Filmski programi//HR
BEGIN:VEVENT
UID:d60ae8b1421875e87a84ab03eeaad238@kinotuskanac.hr
DTSTAMP:20260422T123125Z
DTSTART:20250519T190000
DTEND:20250519T210000
SUMMARY:Solaris
LOCATION:Kino Tuškanac
DESCRIPTION:SSSR, 1972 | Mjesto prikazivanja filma: Centar za kulturu Histrionski dom (Ilica 90) R: Andrei Tarkovsky
END:VEVENT
END:VCALENDAR