BEGIN:VCALENDAR
VERSION:2.0
PRODID:-//Kino Tuškanac//Filmski programi//HR
BEGIN:VEVENT
UID:9a60cad46c0f178a66fab5a1df4c5686@kinotuskanac.hr
DTSTAMP:20260420T143855Z
DTSTART:20250506T210000
DTEND:20250506T230000
SUMMARY:Film
LOCATION:Kino Tuškanac
DESCRIPTION:A Movie, SAD, 1958 | Mjesto prikazivanja filma: Kulturno informativni centar KIC (Preradovićeva ul. 5) R: Bruce Conner
END:VEVENT
END:VCALENDAR