BEGIN:VCALENDAR
VERSION:2.0
PRODID:-//Kino Tuškanac//Filmski programi//HR
BEGIN:VEVENT
UID:3664385054c74d8afbee0f37d13f3260@kinotuskanac.hr
DTSTAMP:20260420T142752Z
DTSTART:20250506T210000
DTEND:20250506T230000
SUMMARY:Divlje cvijeće
LOCATION:Kino Tuškanac
DESCRIPTION:Hrvatska, 2022 R: Karla Crnčević
END:VEVENT
END:VCALENDAR