BEGIN:VCALENDAR
VERSION:2.0
PRODID:-//Kino Tuškanac//Filmski programi//HR
BEGIN:VEVENT
UID:f15e56052b5baf986b1b6cf296367793@kinotuskanac.hr
DTSTAMP:20260421T093009Z
DTSTART:20250528T210000
DTEND:20250528T230000
SUMMARY:Sram (epizode 6-10)
LOCATION:Kino Tuškanac
DESCRIPTION:Hrvatska, 2024 | Mjesto prikazivanja filma: Kino Forum (SD Stjepan Radić, Jarunska ul. 2) R: Jelena Gavrilović
END:VEVENT
END:VCALENDAR