BEGIN:VCALENDAR
VERSION:2.0
PRODID:-//Kino Tuškanac//Filmski programi//HR
BEGIN:VEVENT
UID:b38964ca52f901b4b24ce914a24083f1@kinotuskanac.hr
DTSTAMP:20260420T160930Z
DTSTART:20250612T190000
DTEND:20250612T210000
SUMMARY:Kanal
LOCATION:Kino Tuškanac
DESCRIPTION:Poljska, 1957 | Mjesto prikazivanja filma: Kino Forum (SD Stjepan Radić, Jarunska ul. 2) R: Andrzej Wajda
END:VEVENT
END:VCALENDAR