BEGIN:VCALENDAR
VERSION:2.0
PRODID:-//Kino Tuškanac//Filmski programi//HR
BEGIN:VEVENT
UID:202159fa782b32188b5dc40489d6bbbb@kinotuskanac.hr
DTSTAMP:20260425T031523Z
DTSTART:20250611T210000
DTEND:20250611T230000
SUMMARY:Tko pjeva zlo ne misli
LOCATION:Kino Tuškanac
DESCRIPTION:Hrvatska, 1970 | Mjesto prikazivanja filma: Studio-galerija KLET (Ilica 73) R: Krešo Golik
END:VEVENT
END:VCALENDAR