BEGIN:VCALENDAR
VERSION:2.0
PRODID:-//Kino Tuškanac//Filmski programi//HR
BEGIN:VEVENT
UID:f14ab1eca8ef4e516039358e5041afca@kinotuskanac.hr
DTSTAMP:20260422T215257Z
DTSTART:20250702T200000
DTEND:20250702T220000
SUMMARY:Majka i prostitutka
LOCATION:Kino Tuškanac
DESCRIPTION:La maman et la putain, Francuska, 1973 | Mjesto prikazivanja filma: Kino Forum (SD Stjepan Radić, Jarunska ul. 2) R: Jean Eustache
END:VEVENT
END:VCALENDAR