BEGIN:VCALENDAR
VERSION:2.0
PRODID:-//Kino Tuškanac//Filmski programi//HR
BEGIN:VEVENT
UID:a8f838ba20e9337bb6e782d72ede5dd5@kinotuskanac.hr
DTSTAMP:20260420T170202Z
DTSTART:20250708T210000
DTEND:20250708T230000
SUMMARY:Djevojka s iglom
LOCATION:Kino Tuškanac
DESCRIPTION:Pigen med nålen, Danska, Poljska, Švedska, Francuska, Belgija, 2024 | Mjesto prikazivanja filma: Kulturno informativni centar KIC (Preradovićeva ul. 5) R: Magnus von Horn
END:VEVENT
END:VCALENDAR