BEGIN:VCALENDAR
VERSION:2.0
PRODID:-//Kino Tuškanac//Filmski programi//HR
BEGIN:VEVENT
UID:e789de57c8b31ecdd8047a7f3a8d867c@kinotuskanac.hr
DTSTAMP:20260423T111619Z
DTSTART:20250710T210000
DTEND:20250710T230000
SUMMARY:Cabaret
LOCATION:Kino Tuškanac
DESCRIPTION:SAD, 1972 | Mjesto prikazivanja filma: Kulturno informativni centar KIC (Preradovićeva ul. 5) R: Bob Fosse
END:VEVENT
END:VCALENDAR