BEGIN:VCALENDAR
VERSION:2.0
PRODID:-//Kino Tuškanac//Filmski programi//HR
BEGIN:VEVENT
UID:1987b7156a0deffebdbfaff1a0bc8b20@kinotuskanac.hr
DTSTAMP:20260420T195645Z
DTSTART:20250715T210000
DTEND:20250715T230000
SUMMARY:April
LOCATION:Kino Tuškanac
DESCRIPTION:Gruzija, Italija, Francuska, 2024 | Mjesto prikazivanja filma: Kulturno informativni centar KIC (Preradovićeva ul. 5) R: Dea Kulumbegashvili
END:VEVENT
END:VCALENDAR