BEGIN:VCALENDAR
VERSION:2.0
PRODID:-//Kino Tuškanac//Filmski programi//HR
BEGIN:VEVENT
UID:43a0c0f214f9fd60417640ad53889d2e@kinotuskanac.hr
DTSTAMP:20260425T203558Z
DTSTART:20250722T210000
DTEND:20250722T230000
SUMMARY:Memoari jednog puža
LOCATION:Kino Tuškanac
DESCRIPTION:Memoir of a Snail, Australija, 2024 | Mjesto prikazivanja filma: Kulturno informativni centar KIC (Preradovićeva ul. 5) R: Adam Elliot
END:VEVENT
END:VCALENDAR