BEGIN:VCALENDAR
VERSION:2.0
PRODID:-//Kino Tuškanac//Filmski programi//HR
BEGIN:VEVENT
UID:000d7db23ab451fb9d4ae661c82ecd6e@kinotuskanac.hr
DTSTAMP:20260423T143907Z
DTSTART:20250910T210000
DTEND:20250910T230000
SUMMARY:Ljubav poslijepodne
LOCATION:Kino Tuškanac
DESCRIPTION:L'amour l'après-midi, Francuska, 1972 | Mjesto prikazivanja filma: Kulturno informativni centar KIC (Preradovićeva ul. 5) R: Éric Rohmer
END:VEVENT
END:VCALENDAR