BEGIN:VCALENDAR
VERSION:2.0
PRODID:-//Kino Tuškanac//Filmski programi//HR
BEGIN:VEVENT
UID:9aecde0d5beac65a1d6be380c0331d2e@kinotuskanac.hr
DTSTAMP:20260424T183034Z
DTSTART:20250916T210000
DTEND:20250916T230000
SUMMARY:Nedodirljivi
LOCATION:Kino Tuškanac
DESCRIPTION:The Untouchables, SAD, 1987 | Mjesto prikazivanja filma: Kino Forum (SD Stjepan Radić, Jarunska ul. 2) R: Brian De Palma
END:VEVENT
END:VCALENDAR