BEGIN:VCALENDAR
VERSION:2.0
PRODID:-//Kino Tuškanac//Filmski programi//HR
BEGIN:VEVENT
UID:2c94f54ddcc23cadf0eab3df9462b65d@kinotuskanac.hr
DTSTAMP:20260421T001302Z
DTSTART:20250905T190000
DTEND:20250905T210000
SUMMARY:Južina
LOCATION:Kino Tuškanac
DESCRIPTION:Hrvatska, Srbija, 2025 | Mjesto prikazivanja filma: Kulturno informativni centar KIC (Preradovićeva ul. 5) R: Ante Marin
END:VEVENT
END:VCALENDAR