BEGIN:VCALENDAR
VERSION:2.0
PRODID:-//Kino Tuškanac//Filmski programi//HR
BEGIN:VEVENT
UID:074b981021cf90a9f9c8d8c0af7764e7@kinotuskanac.hr
DTSTAMP:20260425T163457Z
DTSTART:20250906T190000
DTEND:20250906T210000
SUMMARY:Mirotvorac
LOCATION:Kino Tuškanac
DESCRIPTION:Hrvatska, 2025 | Mjesto prikazivanja filma: Kulturno informativni centar KIC (Preradovićeva ul. 5) R: Ivan Ramljak
END:VEVENT
END:VCALENDAR