BEGIN:VCALENDAR
VERSION:2.0
PRODID:-//Kino Tuškanac//Filmski programi//HR
BEGIN:VEVENT
UID:1b39b8c08306934f48cfc123fc97c217@kinotuskanac.hr
DTSTAMP:20260421T072024Z
DTSTART:20250924T190000
DTEND:20250924T210000
SUMMARY:Sirât
LOCATION:Kino Tuškanac
DESCRIPTION:Španjolska, Francuska, 2025 | Mjesto prikazivanja filma: Kulturno informativni centar KIC (Preradovićeva ul. 5) R: Óliver Laxe
END:VEVENT
END:VCALENDAR