BEGIN:VCALENDAR
VERSION:2.0
PRODID:-//Kino Tuškanac//Filmski programi//HR
BEGIN:VEVENT
UID:739012303e67ceae60dba626b158efb2@kinotuskanac.hr
DTSTAMP:20260425T163330Z
DTSTART:20250923T210000
DTEND:20250923T230000
SUMMARY:Mirotvorac
LOCATION:Kino Tuškanac
DESCRIPTION:Hrvatska, 2025 | Mjesto prikazivanja filma: Kulturno informativni centar KIC (Preradovićeva ul. 5) R: Ivan Ramljak
END:VEVENT
END:VCALENDAR