BEGIN:VCALENDAR
VERSION:2.0
PRODID:-//Kino Tuškanac//Filmski programi//HR
BEGIN:VEVENT
UID:5787d76918bf9aa029b9f3adb0582f64@kinotuskanac.hr
DTSTAMP:20260420T133738Z
DTSTART:20251001T210000
DTEND:20251001T230000
SUMMARY:Izgubljeni Dream Team
LOCATION:Kino Tuškanac
DESCRIPTION:Hrvatska, Srbija, Italija, Slovenija, 2025 | Mjesto prikazivanja filma: Kino Forum (SD Stjepan Radić, Jarunska ul. 2) R: Jure Pavlović
END:VEVENT
END:VCALENDAR