BEGIN:VCALENDAR
VERSION:2.0
PRODID:-//Kino Tuškanac//Filmski programi//HR
BEGIN:VEVENT
UID:9a09e6aafbedbb9761365fff5a67789e@kinotuskanac.hr
DTSTAMP:20260420T134617Z
DTSTART:20251030T210000
DTEND:20251030T230000
SUMMARY:Jedan običan incident
LOCATION:Kino Tuškanac
DESCRIPTION:Yek tasadef sadeh, Francuska, Iran, Luksemburg, 2025 | Mjesto prikazivanja filma: Kulturno informativni centar KIC (Preradovićeva ul. 5) R: Jafar Panahi
END:VEVENT
END:VCALENDAR