BEGIN:VCALENDAR
VERSION:2.0
PRODID:-//Kino Tuškanac//Filmski programi//HR
BEGIN:VEVENT
UID:73d06fa7ea4223a67b7e2d719529e195@kinotuskanac.hr
DTSTAMP:20260420T011944Z
DTSTART:20251020T190000
DTEND:20251020T210000
SUMMARY:Šaptaj srca
LOCATION:Kino Tuškanac
DESCRIPTION:Mimi o sumaseba, Japan, 1995 | Mjesto prikazivanja filma: Centar za kulturu Histrionski dom (Ilica 90) R: Yoshifumi Kondô
END:VEVENT
END:VCALENDAR