BEGIN:VCALENDAR
VERSION:2.0
PRODID:-//Kino Tuškanac//Filmski programi//HR
BEGIN:VEVENT
UID:8f9662f35b65620234f0ccabf165e436@kinotuskanac.hr
DTSTAMP:20260419T225127Z
DTSTART:20251020T210000
DTEND:20251020T230000
SUMMARY:Princeza Mononoke
LOCATION:Kino Tuškanac
DESCRIPTION:Mononoke-hime, Japan, 1997 | Mjesto prikazivanja filma: Centar za kulturu Histrionski dom (Ilica 90) R: Hayao Miyazaki
END:VEVENT
END:VCALENDAR