BEGIN:VCALENDAR
VERSION:2.0
PRODID:-//Kino Tuškanac//Filmski programi//HR
BEGIN:VEVENT
UID:11d29813956ce2fde5709968c7336135@kinotuskanac.hr
DTSTAMP:20260419T141941Z
DTSTART:20251023T190000
DTEND:20251023T210000
SUMMARY:Vau vau
LOCATION:Kino Tuškanac
DESCRIPTION:Jugoslavija: Hrvatska, 1964 | Mjesto prikazivanja filma: Centar za kulturu Histrionski dom (Ilica 90) R: Boris Kolar
END:VEVENT
END:VCALENDAR